BEGIN:VCALENDAR
PRODID:-//eluceo/ical//2.0/EN
VERSION:2.0
CALSCALE:GREGORIAN
BEGIN:VEVENT
UID:5d4b3560942f1855c744c5606bbf7b8a
DTSTAMP:20260422T153009Z
SUMMARY:Dorffest mit Bauernmarkt
DESCRIPTION:Ein Tag voller Leben: Frühschoppen mit Blasmusik\, Markttreibe
 n und ein buntes Bühnenprogramm sorgen für beste Unterhaltung. Am Abend 
 lädt die Partyrockband TEILZEIT zum Tanz in den Mai ein.
URL:https://www.meinplaner.com
DTSTART;TZID=Europe/Amsterdam:20260501T100000
DTEND;TZID=Europe/Amsterdam:20260501T230000
LOCATION:Lindengasse  5\, 09366 Stollberg/Erzgeb.
BEGIN:VALARM
ACTION:DISPLAY
DESCRIPTION:Erinnerung: Dorffest mit Bauernmarkt beginnt in 1 Stunde
TRIGGER;RELATED=END:-PT1H
END:VALARM
END:VEVENT
END:VCALENDAR
