BEGIN:VCALENDAR
PRODID:-//eluceo/ical//2.0/EN
VERSION:2.0
CALSCALE:GREGORIAN
BEGIN:VEVENT
UID:af651c34d69a75da3e27a0a4e880c35b
DTSTAMP:20260423T063505Z
SUMMARY:Delikatessen mit Kräutern und Unkräutern
DESCRIPTION:Eine übersehbare Palette wertvoller Köstlichkeiten bietet die
  Natur. Erleben Sie das Zubereiten excellenter Gaumenfreuden.
URL:https://www.meinplaner.com
DTSTART;TZID=Europe/Amsterdam:20260605T170000
DTEND;TZID=Europe/Amsterdam:20260605T200000
LOCATION:Am Kurpark 1\, 09488 Thermalbad Wiesenbad
BEGIN:VALARM
ACTION:DISPLAY
DESCRIPTION:Erinnerung: Delikatessen mit Kräutern und Unkräutern beginnt 
 in 1 Stunde
TRIGGER;RELATED=END:-PT1H
END:VALARM
END:VEVENT
END:VCALENDAR
