BEGIN:VCALENDAR
PRODID:-//eluceo/ical//2.0/EN
VERSION:2.0
CALSCALE:GREGORIAN
BEGIN:VEVENT
UID:83a3699b05cee01eca74d0d54b9d73a8
DTSTAMP:20260420T154209Z
SUMMARY:Der fliegende Holländer
DESCRIPTION:Liebe\, Treue und Geborgenheit stehen im Zentrum der Sage vom f
 liegenden Holländer: Der verfluchte Seefahrer sucht alle sieben Jahre ein
 e Frau\, die ihn erlösen kann. Mit Senta scheint Hoffnung greifbar\, doch
  auch sie ringt mit tiefer Sehnsucht.
URL:https://www.meinplaner.com
DTSTART;TZID=Europe/Amsterdam:20260425T193000
DTEND;TZID=Europe/Amsterdam:20260425T213000
LOCATION:Theaterplatz  2\, 09111 Chemnitz
BEGIN:VALARM
ACTION:DISPLAY
DESCRIPTION:Erinnerung: Der fliegende Holländer beginnt in 1 Stunde
TRIGGER;RELATED=END:-PT1H
END:VALARM
END:VEVENT
END:VCALENDAR
