BEGIN:VCALENDAR
PRODID:-//eluceo/ical//2.0/EN
VERSION:2.0
CALSCALE:GREGORIAN
BEGIN:VEVENT
UID:b393afe22ce564a0c36feb848ab4eb86
DTSTAMP:20260424T071933Z
SUMMARY:Offener Prozess
DESCRIPTION:Die Ausstellung erzählt Migrationsgeschichten seit dem Zweiten
  Weltkrieg\, thematisiert alltäglichen Rassismus\, rechte Gewalt seit den
  Baseballschlägerjahren und zeigt\, wie Betroffene sich wehrten – laut\
 , sichtbar und solidarisch.
URL:https://www.meinplaner.com
DTSTART;TZID=Europe/Amsterdam:20260424T100000
DTEND;TZID=Europe/Amsterdam:20260424T170000
LOCATION:Johannisplatz  8\, 09112 Chemnitz
BEGIN:VALARM
ACTION:DISPLAY
DESCRIPTION:Erinnerung: Offener Prozess beginnt in 1 Stunde
TRIGGER;RELATED=END:-PT1H
END:VALARM
END:VEVENT
END:VCALENDAR
