BEGIN:VCALENDAR
PRODID:-//eluceo/ical//2.0/EN
VERSION:2.0
CALSCALE:GREGORIAN
BEGIN:VEVENT
UID:575afbd23a35fc54b143fa6bdf1318ba
DTSTAMP:20260420T081806Z
SUMMARY:Historische Fotowanderung durch unser Ehrndorf
DESCRIPTION:Historische Fotowanderung mit Jan Ulbricht (ULBE) bietet faszin
 ierende Motive und spannende Einblicke in Ehrenfriedersdorfs Geschichte.
URL:https://www.meinplaner.com
DTSTART;TZID=Europe/Amsterdam:20260424T183000
DTEND;TZID=Europe/Amsterdam:20260424T203000
LOCATION:Triftweg  20\, 09427 Ehrenfriedersdorf
BEGIN:VALARM
ACTION:DISPLAY
DESCRIPTION:Erinnerung: Historische Fotowanderung durch unser Ehrndorf begi
 nnt in 1 Stunde
TRIGGER;RELATED=END:-PT1H
END:VALARM
END:VEVENT
END:VCALENDAR
