BEGIN:VCALENDAR
PRODID:-//eluceo/ical//2.0/EN
VERSION:2.0
CALSCALE:GREGORIAN
BEGIN:VEVENT
UID:c72a03b27df9ebf703bdd8369cf02c17
DTSTAMP:20260419T164028Z
SUMMARY:Frühstück im Museumscafé
DESCRIPTION:Im Museumscafé trifft ein reichhaltiges Frühstücksbuffet auf
  historische Exponate. Kulinarische Genüsse verbinden sich mit der faszin
 ierenden Atmosphäre von Automobilen und Maschinen\, die Geschichte lebend
 ig machen.
URL:https://www.meinplaner.com
DTSTART;TZID=Europe/Amsterdam:20260426T083000
DTEND;TZID=Europe/Amsterdam:20260426T110000
LOCATION:Chemnitzer Str. 64\, 09669 Frankenberg/Sa.
BEGIN:VALARM
ACTION:DISPLAY
DESCRIPTION:Erinnerung: Frühstück im Museumscafé beginnt in 1 Stunde
TRIGGER;RELATED=END:-PT1H
END:VALARM
END:VEVENT
END:VCALENDAR
