BEGIN:VCALENDAR
PRODID:-//eluceo/ical//2.0/EN
VERSION:2.0
CALSCALE:GREGORIAN
BEGIN:VEVENT
UID:e47d76c9b7c2d87f4ed5e316cace345d
DTSTAMP:20260421T050525Z
SUMMARY:Genussvoll – Stilvoll – Gemütlich
DESCRIPTION:Im Restaurant BEATUS trifft Genuss auf Atmosphäre - mit Blick 
 auf den idyllischen Kurpark werden klassische und moderne Gerichte aus fri
 schen\, sorgfältig ausgewählten Zutaten serviert. Die Terrasse und die s
 tilvolle Lounge laden zum entspannten Verweilen ein.
URL:https://www.meinplaner.com
DTSTART;TZID=Europe/Amsterdam:20260421T173000
DTEND;TZID=Europe/Amsterdam:20260421T220000
LOCATION:Richard-Friedrich-Boulevard  16\, 08301 Bad Schlema
BEGIN:VALARM
ACTION:DISPLAY
DESCRIPTION:Erinnerung: Genussvoll – Stilvoll – Gemütlich beginnt in 1
  Stunde
TRIGGER;RELATED=END:-PT1H
END:VALARM
END:VEVENT
BEGIN:VEVENT
UID:45d684b9e73d29758f551cb7a41d7236
DTSTAMP:20260421T050525Z
SUMMARY:Genussvoll – Stilvoll – Gemütlich
DESCRIPTION:Im Restaurant BEATUS trifft Genuss auf Atmosphäre - mit Blick 
 auf den idyllischen Kurpark werden klassische und moderne Gerichte aus fri
 schen\, sorgfältig ausgewählten Zutaten serviert. Die Terrasse und die s
 tilvolle Lounge laden zum entspannten Verweilen ein.
URL:https://www.meinplaner.com
DTSTART;TZID=Europe/Amsterdam:20260421T063000
DTEND;TZID=Europe/Amsterdam:20260421T100000
LOCATION:Richard-Friedrich-Boulevard  16\, 08301 Bad Schlema
BEGIN:VALARM
ACTION:DISPLAY
DESCRIPTION:Erinnerung: Genussvoll – Stilvoll – Gemütlich beginnt in 1
  Stunde
TRIGGER;RELATED=END:-PT1H
END:VALARM
END:VEVENT
END:VCALENDAR
