BEGIN:VCALENDAR
PRODID:-//eluceo/ical//2.0/EN
VERSION:2.0
CALSCALE:GREGORIAN
BEGIN:VEVENT
UID:8d7aa9db96e2bd21434503356a8f7d7b
DTSTAMP:20260425T152659Z
SUMMARY:Pochen Symposium: Another City Tour
DESCRIPTION:Beim Stadtspaziergang mit Oleksandra Patlai\, Mariia Vorotilina
  und Ahmed Alsaadi wird Chemnitz aus migrantischen Perspektiven erkundet: 
 Orte der Erinnerung und Zugehörigkeit zeigen\, wie Menschen neues kulture
 lles Erbe schaffen und Räume mit Bedeutung füllen.
URL:https://www.meinplaner.com
DTSTART;TZID=Europe/Amsterdam:20260510T103000
DTEND;TZID=Europe/Amsterdam:20260510T120000
LOCATION:Bahnhofstr.  1\, 09111 Chemnitz
BEGIN:VALARM
ACTION:DISPLAY
DESCRIPTION:Erinnerung: Pochen Symposium: Another City Tour beginnt in 1 St
 unde
TRIGGER;RELATED=END:-PT1H
END:VALARM
END:VEVENT
END:VCALENDAR
