BEGIN:VCALENDAR
PRODID:-//eluceo/ical//2.0/EN
VERSION:2.0
CALSCALE:GREGORIAN
BEGIN:VEVENT
UID:e94af815dcfad1ba5c864b596f6c760e
DTSTAMP:20260420T154449Z
SUMMARY:Achtung\, Spoiler! - Der fliegende Holländer
DESCRIPTION:Die Besucher erhalten Einblicke in die bevorstehende Musiktheat
 erpremiere.
URL:https://www.meinplaner.com
DTSTART;TZID=Europe/Amsterdam:20260421T173000
DTEND;TZID=Europe/Amsterdam:20260421T193000
LOCATION:Theaterplatz  2\, 09111 Chemnitz
BEGIN:VALARM
ACTION:DISPLAY
DESCRIPTION:Erinnerung: Achtung\, Spoiler! - Der fliegende Holländer begin
 nt in 1 Stunde
TRIGGER;RELATED=END:-PT1H
END:VALARM
END:VEVENT
END:VCALENDAR
