BEGIN:VCALENDAR
PRODID:-//eluceo/ical//2.0/EN
VERSION:2.0
CALSCALE:GREGORIAN
BEGIN:VEVENT
UID:e3d5ba41440771177ff9908622f9cef5
DTSTAMP:20260420T153944Z
SUMMARY:Best of Schaller/Ulbricht
DESCRIPTION:Rasant kurven Schaller und Ulbricht durch die Niederungen der g
 roßen Politik und der kleinen Probleme des Alltags. Ob es um die Unfähig
 keit unserer Politiker geht oder um die kleinen Bosheiten am häuslichen H
 erd. Eine witzige Bühnenbilanz nach 20 Jahren.
URL:https://www.meinplaner.com
DTSTART;TZID=Europe/Amsterdam:20260421T200000
DTEND;TZID=Europe/Amsterdam:20260421T220000
LOCATION:An der Markthalle 1 -3\, 09111 Chemnitz
BEGIN:VALARM
ACTION:DISPLAY
DESCRIPTION:Erinnerung: Best of Schaller/Ulbricht beginnt in 1 Stunde
TRIGGER;RELATED=END:-PT1H
END:VALARM
END:VEVENT
END:VCALENDAR
