BEGIN:VCALENDAR
PRODID:-//eluceo/ical//2.0/EN
VERSION:2.0
CALSCALE:GREGORIAN
BEGIN:VEVENT
UID:fa44a6929d59d84f5edee74a2f6292ad
DTSTAMP:20260423T155233Z
SUMMARY:Rassekaninchenjungtierschau mit Tag der offenen Tür und Techniksch
 au der FFW Pleißa
DESCRIPTION:Vielfältiges Programm mit Jungtierschau\, Technikschau der FFW
  Pleißa sowie Bastelstraße und Hüpfburg. Dazu Speisen\, Getränke und T
 ombola. Am Abend Live-Programm mit Jaqueline Engel und stimmungsvoller Unt
 erhaltung.
URL:https://www.meinplaner.com
DTSTART;TZID=Europe/Amsterdam:20260718T190000
DTEND;TZID=Europe/Amsterdam:20260718T220000
LOCATION:Pleißenbachstraße \, 09212 Limbach-Oberfrohna
BEGIN:VALARM
ACTION:DISPLAY
DESCRIPTION:Erinnerung: Rassekaninchenjungtierschau mit Tag der offenen Tü
 r und Technikschau der FFW Pleißa beginnt in 1 Stunde
TRIGGER;RELATED=END:-PT1H
END:VALARM
END:VEVENT
BEGIN:VEVENT
UID:c05463bda74587968f42c7d79cc22228
DTSTAMP:20260423T155233Z
SUMMARY:Rassekaninchenjungtierschau mit Tag der offenen Tür und Techniksch
 au der FFW Pleißa
DESCRIPTION:Vielfältiges Programm mit Jungtierschau\, Technikschau der FFW
  Pleißa sowie Bastelstraße und Hüpfburg. Dazu Speisen\, Getränke und T
 ombola. Am Abend Live-Programm mit Jaqueline Engel und stimmungsvoller Unt
 erhaltung.
URL:https://www.meinplaner.com
DTSTART;TZID=Europe/Amsterdam:20260718T100000
DTEND;TZID=Europe/Amsterdam:20260718T130000
LOCATION:Pleißenbachstraße \, 09212 Limbach-Oberfrohna
BEGIN:VALARM
ACTION:DISPLAY
DESCRIPTION:Erinnerung: Rassekaninchenjungtierschau mit Tag der offenen Tü
 r und Technikschau der FFW Pleißa beginnt in 1 Stunde
TRIGGER;RELATED=END:-PT1H
END:VALARM
END:VEVENT
END:VCALENDAR
