BEGIN:VCALENDAR
PRODID:-//eluceo/ical//2.0/EN
VERSION:2.0
CALSCALE:GREGORIAN
BEGIN:VEVENT
UID:e9340c4c69ab58f1dd34ed883a500bda
DTSTAMP:20260423T005845Z
SUMMARY:Ungewöhnlich Sächsi
DESCRIPTION:Die Sybille hat wieder was am Laufen und einen mitlaufen sowies
 o! Ganz Hintermosepuckel rätselt: Einladung in Silber\, handgeschöpftes 
 Papier\, aber keiner weiß\, worum’s geht. Hat sie jetzt ihren Prinzen? 
 De Muddi\, Opa und Tante Bärbel sind schon ganz aufgeregt.
URL:https://www.meinplaner.com
DTSTART;TZID=Europe/Amsterdam:20260423T190000
DTEND;TZID=Europe/Amsterdam:20260423T210000
LOCATION:Eislebener Str. 8\, 09126 Chemnitz
BEGIN:VALARM
ACTION:DISPLAY
DESCRIPTION:Erinnerung: Ungewöhnlich Sächsi beginnt in 1 Stunde
TRIGGER;RELATED=END:-PT1H
END:VALARM
END:VEVENT
END:VCALENDAR
