BEGIN:VCALENDAR
PRODID:-//eluceo/ical//2.0/EN
VERSION:2.0
CALSCALE:GREGORIAN
BEGIN:VEVENT
UID:37b87709e06200fbd2a1e1f32e2a1ec9
DTSTAMP:20260419T134224Z
SUMMARY:Draußen vor der Tür
DESCRIPTION:Ein Mann kehrt heim\, gezeichnet vom Krieg. Die Welt hat sich v
 erändert\, seine Familie ist verloren. Die Elbe\, einst Fluchtort\, gibt 
 ihm keinen Frieden. Schuld und Verantwortung lasten schwer. Auf der Suche 
 nach Halt bleibt nur die Straße.
URL:https://www.meinplaner.com
DTSTART;TZID=Europe/Amsterdam:20260419T180000
DTEND;TZID=Europe/Amsterdam:20260419T200000
LOCATION:Hauptmarkt \, 08056 Zwickau
BEGIN:VALARM
ACTION:DISPLAY
DESCRIPTION:Erinnerung: Draußen vor der Tür beginnt in 1 Stunde
TRIGGER;RELATED=END:-PT1H
END:VALARM
END:VEVENT
END:VCALENDAR
