BEGIN:VCALENDAR
PRODID:-//eluceo/ical//2.0/EN
VERSION:2.0
CALSCALE:GREGORIAN
BEGIN:VEVENT
UID:faf4c240d8f1aa444353fe80bdce50f7
DTSTAMP:20260419T234855Z
SUMMARY:Genuss auf hohem Niveau mit eigenem Stil
DESCRIPTION:Schicke Modernität und eine anspruchsvolle Gemütlichkeit biet
 et das zentrumsnahe "Alexxanders" in einem denkmalgeschützten Haus. Inhab
 er und Koch Roland Keilholz und sein Team kreieren auf reizvolle Weise lei
 chte deutsche Küche mit internationalen Einflüssen.
URL:https://www.meinplaner.com
DTSTART;TZID=Europe/Amsterdam:20260420T070000
DTEND;TZID=Europe/Amsterdam:20260420T120000
LOCATION:Ludwig-Kirsch-Str. 9\, 09130 Chemnitz
BEGIN:VALARM
ACTION:DISPLAY
DESCRIPTION:Erinnerung: Genuss auf hohem Niveau mit eigenem Stil beginnt in
  1 Stunde
TRIGGER;RELATED=END:-PT1H
END:VALARM
END:VEVENT
BEGIN:VEVENT
UID:7a4a972377ac462e47a18ecdaf09281b
DTSTAMP:20260419T234855Z
SUMMARY:Genuss auf hohem Niveau mit eigenem Stil
DESCRIPTION:Schicke Modernität und eine anspruchsvolle Gemütlichkeit biet
 et das zentrumsnahe "Alexxanders" in einem denkmalgeschützten Haus. Inhab
 er und Koch Roland Keilholz und sein Team kreieren auf reizvolle Weise lei
 chte deutsche Küche mit internationalen Einflüssen.
URL:https://www.meinplaner.com
DTSTART;TZID=Europe/Amsterdam:20260420T170000
DTEND;TZID=Europe/Amsterdam:20260420T220000
LOCATION:Ludwig-Kirsch-Str. 9\, 09130 Chemnitz
BEGIN:VALARM
ACTION:DISPLAY
DESCRIPTION:Erinnerung: Genuss auf hohem Niveau mit eigenem Stil beginnt in
  1 Stunde
TRIGGER;RELATED=END:-PT1H
END:VALARM
END:VEVENT
END:VCALENDAR
