BEGIN:VCALENDAR
PRODID:-//eluceo/ical//2.0/EN
VERSION:2.0
CALSCALE:GREGORIAN
BEGIN:VEVENT
UID:cc103dcfbb11d6463e3626c13b3d44a9
DTSTAMP:20260420T195531Z
SUMMARY:Form in Fahrt. Automobile Skulpturen von Alexander Stollberg
DESCRIPTION:Der Bildhauer Alexander Stollberg vereint Handwerk\, Technik un
 d Emotion. Aus Stein und Holz formt er automobile Skulpturen im Geist der 
 1920er/30er – inspiriert von Auto Union und Porsche. Seine Werke strahle
 n Bewegung\, Eleganz und haptische Faszination aus.
URL:https://www.meinplaner.com
DTSTART;TZID=Europe/Amsterdam:20260421T093000
DTEND;TZID=Europe/Amsterdam:20260421T170000
LOCATION:Audistr. 7\, 08058 Zwickau
BEGIN:VALARM
ACTION:DISPLAY
DESCRIPTION:Erinnerung: Form in Fahrt. Automobile Skulpturen von Alexander 
 Stollberg beginnt in 1 Stunde
TRIGGER;RELATED=END:-PT1H
END:VALARM
END:VEVENT
END:VCALENDAR
