BEGIN:VCALENDAR
PRODID:-//eluceo/ical//2.0/EN
VERSION:2.0
CALSCALE:GREGORIAN
BEGIN:VEVENT
UID:1e7835fc92b3310112e00dc8ee32ce53
DTSTAMP:20260421T225620Z
SUMMARY:Sommerkonzert mit der Erzgebirgischen Philharmonie Aue
DESCRIPTION:Ein besonderer Sommerabend voller musikalischer Höhepunkte erw
 artet das Publikum im Bürgersaal Zschopau. Die Erzgebirgische Philharmoni
 e Aue präsentiert ein festliches Konzert mit beschwingten Melodien\, klan
 gvollen Klassikern und sommerlicher Leichtigkeit.
URL:https://www.meinplaner.com
DTSTART;TZID=Europe/Amsterdam:20260814T190000
DTEND;TZID=Europe/Amsterdam:20260814T210000
LOCATION:An den Anlagen 16\, 09405 Zschopau
BEGIN:VALARM
ACTION:DISPLAY
DESCRIPTION:Erinnerung: Sommerkonzert mit der Erzgebirgischen Philharmonie 
 Aue beginnt in 1 Stunde
TRIGGER;RELATED=END:-PT1H
END:VALARM
END:VEVENT
END:VCALENDAR
