BEGIN:VCALENDAR
PRODID:-//eluceo/ical//2.0/EN
VERSION:2.0
CALSCALE:GREGORIAN
BEGIN:VEVENT
UID:f089f3f59d3a79f9de3f89e22c3f4b66
DTSTAMP:20260420T063516Z
SUMMARY:Papa-Kind-Tag zu Himmelfahrt
DESCRIPTION:Was für ein besonderes Erlebnis: Zusammen mit dem Papa die Wel
 t unter Tage erkunden. Erleben\, wie Bergleute gearbeitet haben und wie es
  dort aussieht\, wo nie die Sonne scheint\, aber wertvolles Gestein der Re
 gion früher Reichtum brachte.
URL:https://www.meinplaner.com
DTSTART;TZID=Europe/Amsterdam:20260514T100000
DTEND;TZID=Europe/Amsterdam:20260514T150000
LOCATION:Am Sauberg 1\, 09427 Ehrenfriedersdorf
BEGIN:VALARM
ACTION:DISPLAY
DESCRIPTION:Erinnerung: Papa-Kind-Tag zu Himmelfahrt beginnt in 1 Stunde
TRIGGER;RELATED=END:-PT1H
END:VALARM
END:VEVENT
END:VCALENDAR
