BEGIN:VCALENDAR
PRODID:-//eluceo/ical//2.0/EN
VERSION:2.0
CALSCALE:GREGORIAN
BEGIN:VEVENT
UID:01696b8c556c421f967a5c0bd201ad9e
DTSTAMP:20260421T051333Z
SUMMARY:Muttertagsbrunch
DESCRIPTION:Was bietet sich an diesem Tag Besseres\, als Mütter (Schwieger
  & eigene) auszuführen! Zu diesem Brunch gibt es eine exquisite Auswahl a
 n Speisen\, von herzhaften Delikatessen bis zu verführerischen Desserts. 
 Eine gute Gelegenheit\, für Liebe & Hingabe zu danken.
URL:https://www.meinplaner.com
DTSTART;TZID=Europe/Amsterdam:20260510T140000
DTEND;TZID=Europe/Amsterdam:20260510T160000
LOCATION:Fürstenplatz 5\, 08289 Schneeberg
BEGIN:VALARM
ACTION:DISPLAY
DESCRIPTION:Erinnerung: Muttertagsbrunch beginnt in 1 Stunde
TRIGGER;RELATED=END:-PT1H
END:VALARM
END:VEVENT
END:VCALENDAR
