BEGIN:VCALENDAR
PRODID:-//eluceo/ical//2.0/EN
VERSION:2.0
CALSCALE:GREGORIAN
BEGIN:VEVENT
UID:50770b63de5ba381520111067645d6ab
DTSTAMP:20260420T104640Z
SUMMARY:Badespaß für die ganze Familie
DESCRIPTION:Das im Jugendstil errichtete Dr. Curt-Geitner-Bad mit Terrazzo-
 Fussböden und glasierten Zier-Keramiken bietet neben finnischer Sauna ein
  Dampfbad und Sanarium. Besondere Kurse gibt es für Familien\, u.a. Senio
 renschwimmen\, Aqua-Fitness und Babyschwimmen.
URL:https://www.meinplaner.com
DTSTART;TZID=Europe/Amsterdam:20260421T150000
DTEND;TZID=Europe/Amsterdam:20260421T170000
LOCATION:Amtsgerichtsstr. 1\, 08289 Schneeberg
BEGIN:VALARM
ACTION:DISPLAY
DESCRIPTION:Erinnerung: Badespaß für die ganze Familie beginnt in 1 Stund
 e
TRIGGER;RELATED=END:-PT1H
END:VALARM
END:VEVENT
BEGIN:VEVENT
UID:7d9059ba13d39950e41be07ca9e914b2
DTSTAMP:20260420T104640Z
SUMMARY:Badespaß für die ganze Familie
DESCRIPTION:Das im Jugendstil errichtete Dr. Curt-Geitner-Bad mit Terrazzo-
 Fussböden und glasierten Zier-Keramiken bietet neben finnischer Sauna ein
  Dampfbad und Sanarium. Besondere Kurse gibt es für Familien\, u.a. Senio
 renschwimmen\, Aqua-Fitness und Babyschwimmen.
URL:https://www.meinplaner.com
DTSTART;TZID=Europe/Amsterdam:20260421T180000
DTEND;TZID=Europe/Amsterdam:20260421T200000
LOCATION:Amtsgerichtsstr. 1\, 08289 Schneeberg
BEGIN:VALARM
ACTION:DISPLAY
DESCRIPTION:Erinnerung: Badespaß für die ganze Familie beginnt in 1 Stund
 e
TRIGGER;RELATED=END:-PT1H
END:VALARM
END:VEVENT
END:VCALENDAR
