BEGIN:VCALENDAR
PRODID:-//eluceo/ical//2.0/EN
VERSION:2.0
CALSCALE:GREGORIAN
BEGIN:VEVENT
UID:affb82603dd082db99a7f8f1b52797ea
DTSTAMP:20260422T225620Z
SUMMARY:Wissenswerkstatt - Holzbearbeitung
DESCRIPTION:In der Workshopreihe entdecken Kinder und Jugendliche den Werks
 toff Holz und setzen eigene Ideen praktisch um. Begleitet von einem erfahr
 enen Holzbildhauer entstehen kreative Projekte mit handwerklichem Geschick
 . 🪵🎨
URL:https://www.meinplaner.com
DTSTART;TZID=Europe/Amsterdam:20260429T143000
DTEND;TZID=Europe/Amsterdam:20260429T160000
LOCATION:An d. Stalburg 6-7\, 09366 Stollberg/Erzgeb.
BEGIN:VALARM
ACTION:DISPLAY
DESCRIPTION:Erinnerung: Wissenswerkstatt - Holzbearbeitung beginnt in 1 Stu
 nde
TRIGGER;RELATED=END:-PT1H
END:VALARM
END:VEVENT
END:VCALENDAR
