BEGIN:VCALENDAR
PRODID:-//eluceo/ical//2.0/EN
VERSION:2.0
CALSCALE:GREGORIAN
BEGIN:VEVENT
UID:25cc1112cb4b4647aace246e09caf666
DTSTAMP:20260423T195525Z
SUMMARY:Vortrag - Mit HighTec sanft unter den Pelz - Minimal-Invasive Chiru
 rgie
DESCRIPTION:Einblick in moderne Operationsmethoden aus der Veterinärmedizi
 n: Der Vortrag zeigt\, wie minimalinvasive Techniken schonend bei Haus-\, 
 Zoo- und Wildtieren eingesetzt werden und welche Vorteile sie für Heilung
  und Behandlung bieten.
URL:https://www.meinplaner.com
DTSTART;TZID=Europe/Amsterdam:20260610T190000
DTEND;TZID=Europe/Amsterdam:20260610T210000
LOCATION:Tierparkstr. 2\, 09212 Limbach-Oberfrohna
BEGIN:VALARM
ACTION:DISPLAY
DESCRIPTION:Erinnerung: Vortrag - Mit HighTec sanft unter den Pelz - Minima
 l-Invasive Chirurgie beginnt in 1 Stunde
TRIGGER;RELATED=END:-PT1H
END:VALARM
END:VEVENT
END:VCALENDAR
