BEGIN:VCALENDAR
PRODID:-//eluceo/ical//2.0/EN
VERSION:2.0
CALSCALE:GREGORIAN
BEGIN:VEVENT
UID:a169d13e44f8713fbbfa565c7bb9f884
DTSTAMP:20260425T231520Z
SUMMARY:Jessica Durlacher im Gespräch – Musikalisch begleitet von Jeffre
 y Goldberg
DESCRIPTION:Die niederländische Autorin gibt bewegende Einblicke in ihre F
 amiliengeschichte und das Leben ihres Großvaters. Literatur und Musik ver
 binden sich zu einer eindringlichen Auseinandersetzung mit Erinnerung\, Ku
 nst und Geschichte. 📖🎹
URL:https://www.meinplaner.com
DTSTART;TZID=Europe/Amsterdam:20260510T090000
DTEND;TZID=Europe/Amsterdam:20260510T103000
LOCATION:Moritzstr. 20\, 09111 Chemnitz
BEGIN:VALARM
ACTION:DISPLAY
DESCRIPTION:Erinnerung: Jessica Durlacher im Gespräch – Musikalisch begl
 eitet von Jeffrey Goldberg beginnt in 1 Stunde
TRIGGER;RELATED=END:-PT1H
END:VALARM
END:VEVENT
END:VCALENDAR
