BEGIN:VCALENDAR
PRODID:-//eluceo/ical//2.0/EN
VERSION:2.0
CALSCALE:GREGORIAN
BEGIN:VEVENT
UID:88732a795298ea33a17a64d19d9d322a
DTSTAMP:20260423T104207Z
SUMMARY:Das verlorene Gold von Zwickau
DESCRIPTION:Eine geheimnisvolle Spurensuche rund um den Genusshof. Seltsame
  Symbole\, verborgene Hinweise und ein uraltes Rätsel um eine verschwunde
 ne Soldkasse warten darauf\, entdeckt zu werden.
URL:https://www.meinplaner.com
DTSTART;TZID=Europe/Amsterdam:20260423T130000
DTEND;TZID=Europe/Amsterdam:20260423T210000
LOCATION:Niedermülsener Hauptstr. 88\, 08132 Mülsen
BEGIN:VALARM
ACTION:DISPLAY
DESCRIPTION:Erinnerung: Das verlorene Gold von Zwickau beginnt in 1 Stunde
TRIGGER;RELATED=END:-PT1H
END:VALARM
END:VEVENT
END:VCALENDAR
