BEGIN:VCALENDAR
PRODID:-//eluceo/ical//2.0/EN
VERSION:2.0
CALSCALE:GREGORIAN
BEGIN:VEVENT
UID:725a0bc5ce1da534cd0dc6166ba2f3c8
DTSTAMP:20260421T005626Z
SUMMARY:Kinder-Schnitzgruppe
DESCRIPTION:Der Schnitz- und Klöppelverein Ehrenfriedersdorf lädt Kinder 
 regelmäßig zur Schnitzgruppe ein. Spielerisch und kreativ werden erste h
 andwerkliche Fähigkeiten vermittelt und die Freude am Gestalten mit Holz 
 geweckt.
URL:https://www.meinplaner.com
DTSTART;TZID=Europe/Amsterdam:20260423T150000
DTEND;TZID=Europe/Amsterdam:20260423T170000
LOCATION:Max-Wenzel-Str. 1\, 09427 Ehrenfriedersdorf
BEGIN:VALARM
ACTION:DISPLAY
DESCRIPTION:Erinnerung: Kinder-Schnitzgruppe beginnt in 1 Stunde
TRIGGER;RELATED=END:-PT1H
END:VALARM
END:VEVENT
END:VCALENDAR
