BEGIN:VCALENDAR
PRODID:-//eluceo/ical//2.0/EN
VERSION:2.0
CALSCALE:GREGORIAN
BEGIN:VEVENT
UID:39ecc9dff8d814e6844508b133487134
DTSTAMP:20260420T154059Z
SUMMARY:Chemnitz sucht den Superstar
DESCRIPTION:Das Vorspielen der neuen Bewerber sorgt für Abwechslung beim K
 abarett. Gewitzt und anrührend zugleich spielen sich Ellen Schaller und M
 artin Berke in rasantem Wechsel von Perücken und Kostümen durch alle „
 BewerberSternchenInnen“ zwischen 9 und 99.
URL:https://www.meinplaner.com
DTSTART;TZID=Europe/Amsterdam:20260428T200000
DTEND;TZID=Europe/Amsterdam:20260428T220000
LOCATION:An der Markthalle 1 -3\, 09111 Chemnitz
BEGIN:VALARM
ACTION:DISPLAY
DESCRIPTION:Erinnerung: Chemnitz sucht den Superstar beginnt in 1 Stunde
TRIGGER;RELATED=END:-PT1H
END:VALARM
END:VEVENT
END:VCALENDAR
