BEGIN:VCALENDAR
PRODID:-//eluceo/ical//2.0/EN
VERSION:2.0
CALSCALE:GREGORIAN
BEGIN:VEVENT
UID:76f857b78abfbb043db92a53f93c5993
DTSTAMP:20260420T153759Z
SUMMARY:28. Chemnitzer Schultheaterwoche: Die Hüter der letzten Flamme
DESCRIPTION:In dem Stück entfaltet sich eine fesselnde Reise\, in der Kind
 er dem geheimnisvollen Hüter folgen\, sich den Elementen stellen und entd
 ecken\, dass das Licht\, das die Welt erhellt\, tief in ihnen selbst verbo
 rgen ist und durch Gemeinschaft erstrahlt.
URL:https://www.meinplaner.com
DTSTART;TZID=Europe/Amsterdam:20260423T100000
DTEND;TZID=Europe/Amsterdam:20260423T120000
LOCATION:Altchemnitzer Str. 27\, 09120 Chemnitz
BEGIN:VALARM
ACTION:DISPLAY
DESCRIPTION:Erinnerung: 28. Chemnitzer Schultheaterwoche: Die Hüter der le
 tzten Flamme beginnt in 1 Stunde
TRIGGER;RELATED=END:-PT1H
END:VALARM
END:VEVENT
END:VCALENDAR
