BEGIN:VCALENDAR
PRODID:-//eluceo/ical//2.0/EN
VERSION:2.0
CALSCALE:GREGORIAN
BEGIN:VEVENT
UID:e747b3f696705a846c024018b566be0a
DTSTAMP:20260425T162902Z
SUMMARY:Echtes Mittelalter-Feeling hoch über dem Fluss
DESCRIPTION:Sie gilt als schönste Ritterburg Sachsens! Imposant erhebt sie
  sich auf einem steilen Felsen über dem Fluss Zschopau. Besonders sehensw
 ert sind neben dem Museum der monumentale Wohnturm\, die Burgkapelle mit M
 alereien um 1410 und das Kriebsteinzimmer.\n
URL:https://www.meinplaner.com
DTSTART;TZID=Europe/Amsterdam:20260425T100000
DTEND;TZID=Europe/Amsterdam:20260425T180000
LOCATION:Kriebsteiner Str. 7\, 09648 Kriebstein
BEGIN:VALARM
ACTION:DISPLAY
DESCRIPTION:Erinnerung: Echtes Mittelalter-Feeling hoch über dem Fluss beg
 innt in 1 Stunde
TRIGGER;RELATED=END:-PT1H
END:VALARM
END:VEVENT
END:VCALENDAR
