BEGIN:VCALENDAR
PRODID:-//eluceo/ical//2.0/EN
VERSION:2.0
CALSCALE:GREGORIAN
BEGIN:VEVENT
UID:00dbd6c27a63a89b7d977d8041469264
DTSTAMP:20260426T003223Z
SUMMARY: Michael
DESCRIPTION:Der junge Michael Jackson\, als achtes von zehn Kindern unter d
 em strengen Vater Joe aufgewachsen\, wird früh zur Musikkarriere gedrillt
 \, feiert mit den Jackson Five erste Erfolge und erreicht mit "Thriller" W
 eltruhm\, während er sich von seinem Vater trennt.
URL:https://www.meinplaner.com
DTSTART;TZID=Europe/Amsterdam:20260426T193000
DTEND;TZID=Europe/Amsterdam:20260426T213000
LOCATION:Jägerstr. 24\, 09212 Limbach-Oberfrohna
BEGIN:VALARM
ACTION:DISPLAY
DESCRIPTION:Erinnerung:  Michael beginnt in 1 Stunde
TRIGGER;RELATED=END:-PT1H
END:VALARM
END:VEVENT
BEGIN:VEVENT
UID:97104e9ce98d23064a98dcc7f69953dd
DTSTAMP:20260426T003223Z
SUMMARY: Michael
DESCRIPTION:Der junge Michael Jackson\, als achtes von zehn Kindern unter d
 em strengen Vater Joe aufgewachsen\, wird früh zur Musikkarriere gedrillt
 \, feiert mit den Jackson Five erste Erfolge und erreicht mit "Thriller" W
 eltruhm\, während er sich von seinem Vater trennt.
URL:https://www.meinplaner.com
DTSTART;TZID=Europe/Amsterdam:20260426T163000
DTEND;TZID=Europe/Amsterdam:20260426T183000
LOCATION:Jägerstr. 24\, 09212 Limbach-Oberfrohna
BEGIN:VALARM
ACTION:DISPLAY
DESCRIPTION:Erinnerung:  Michael beginnt in 1 Stunde
TRIGGER;RELATED=END:-PT1H
END:VALARM
END:VEVENT
END:VCALENDAR
