BEGIN:VCALENDAR
PRODID:-//eluceo/ical//2.0/EN
VERSION:2.0
CALSCALE:GREGORIAN
BEGIN:VEVENT
UID:3a925b6cacc45f919b28220a9388f41a
DTSTAMP:20260420T130817Z
SUMMARY:Volker Wissing: Verantwortung
DESCRIPTION:Volker Wissing reflektiert über die Herausforderungen der poli
 tischen Debattenkultur in Deutschland\, beleuchtet die tiefen Gräben und 
 plädiert für mutige Entscheidungen sowie gegenseitigen Respekt als Grund
 lage für eine bessere politische Zukunft.
URL:https://www.meinplaner.com
DTSTART;TZID=Europe/Amsterdam:20260429T190000
DTEND;TZID=Europe/Amsterdam:20260429T220000
LOCATION:Parkstr. 58\, 09120 Chemnitz
BEGIN:VALARM
ACTION:DISPLAY
DESCRIPTION:Erinnerung: Volker Wissing: Verantwortung beginnt in 1 Stunde
TRIGGER;RELATED=END:-PT1H
END:VALARM
END:VEVENT
END:VCALENDAR
