BEGIN:VCALENDAR
PRODID:-//eluceo/ical//2.0/EN
VERSION:2.0
CALSCALE:GREGORIAN
BEGIN:VEVENT
UID:bb37b11ae45c77bb7597c89887ad617f
DTSTAMP:20260419T142626Z
SUMMARY:Sprachencafé
DESCRIPTION:Die Türen öffnen sich für das Sprachencafé Chemnitz – ein
  offenes Begegnungsformat zum Deutschüben\, Austauschen und Vernetzen von
  Menschen unterschiedlicher Sprachen und Hintergründe. Die inhaltliche Ge
 staltung liegt beim Sprachencafé-Team.
URL:https://www.meinplaner.com
DTSTART;TZID=Europe/Amsterdam:20260423T150000
DTEND;TZID=Europe/Amsterdam:20260423T170000
LOCATION:Theaterplatz 1\, 09111 Chemnitz
BEGIN:VALARM
ACTION:DISPLAY
DESCRIPTION:Erinnerung: Sprachencafé beginnt in 1 Stunde
TRIGGER;RELATED=END:-PT1H
END:VALARM
END:VEVENT
END:VCALENDAR
