BEGIN:VCALENDAR
PRODID:-//eluceo/ical//2.0/EN
VERSION:2.0
CALSCALE:GREGORIAN
BEGIN:VEVENT
UID:2146be160499c702cce905a9bfa08133
DTSTAMP:20260424T142019Z
SUMMARY:Chemnitzer Museumsnacht I: Einblicke in die Schatzkammer der Stadtb
 ibliothek
DESCRIPTION:Eine Kurzführung führt in das sonst nicht zugängliche Keller
 magazin der Bibliothek. Ausgewählte historische Bücher und besondere Sam
 mlungsstücke geben spannende Einblicke in den Bestand.
URL:https://www.meinplaner.com
DTSTART;TZID=Europe/Amsterdam:20260509T200000
DTEND;TZID=Europe/Amsterdam:20260509T210000
LOCATION:Moritzstr. 20\, 09111 Chemnitz
BEGIN:VALARM
ACTION:DISPLAY
DESCRIPTION:Erinnerung: Chemnitzer Museumsnacht I: Einblicke in die Schatzk
 ammer der Stadtbibliothek beginnt in 1 Stunde
TRIGGER;RELATED=END:-PT1H
END:VALARM
END:VEVENT
BEGIN:VEVENT
UID:06f2e2170585522100b0bee7989bb18f
DTSTAMP:20260424T142019Z
SUMMARY:Chemnitzer Museumsnacht I: Einblicke in die Schatzkammer der Stadtb
 ibliothek
DESCRIPTION:Eine Kurzführung führt in das sonst nicht zugängliche Keller
 magazin der Bibliothek. Ausgewählte historische Bücher und besondere Sam
 mlungsstücke geben spannende Einblicke in den Bestand.
URL:https://www.meinplaner.com
DTSTART;TZID=Europe/Amsterdam:20260509T210000
DTEND;TZID=Europe/Amsterdam:20260509T220000
LOCATION:Moritzstr. 20\, 09111 Chemnitz
BEGIN:VALARM
ACTION:DISPLAY
DESCRIPTION:Erinnerung: Chemnitzer Museumsnacht I: Einblicke in die Schatzk
 ammer der Stadtbibliothek beginnt in 1 Stunde
TRIGGER;RELATED=END:-PT1H
END:VALARM
END:VEVENT
BEGIN:VEVENT
UID:c6dbfa246f110cab1723b264c754e331
DTSTAMP:20260424T142019Z
SUMMARY:Chemnitzer Museumsnacht I: Einblicke in die Schatzkammer der Stadtb
 ibliothek
DESCRIPTION:Eine Kurzführung führt in das sonst nicht zugängliche Keller
 magazin der Bibliothek. Ausgewählte historische Bücher und besondere Sam
 mlungsstücke geben spannende Einblicke in den Bestand.
URL:https://www.meinplaner.com
DTSTART;TZID=Europe/Amsterdam:20260509T180000
DTEND;TZID=Europe/Amsterdam:20260509T190000
LOCATION:Moritzstr. 20\, 09111 Chemnitz
BEGIN:VALARM
ACTION:DISPLAY
DESCRIPTION:Erinnerung: Chemnitzer Museumsnacht I: Einblicke in die Schatzk
 ammer der Stadtbibliothek beginnt in 1 Stunde
TRIGGER;RELATED=END:-PT1H
END:VALARM
END:VEVENT
BEGIN:VEVENT
UID:9007e148756c0dad034cee3f22358bc8
DTSTAMP:20260424T142019Z
SUMMARY:Chemnitzer Museumsnacht I: Einblicke in die Schatzkammer der Stadtb
 ibliothek
DESCRIPTION:Eine Kurzführung führt in das sonst nicht zugängliche Keller
 magazin der Bibliothek. Ausgewählte historische Bücher und besondere Sam
 mlungsstücke geben spannende Einblicke in den Bestand.
URL:https://www.meinplaner.com
DTSTART;TZID=Europe/Amsterdam:20260509T190000
DTEND;TZID=Europe/Amsterdam:20260509T200000
LOCATION:Moritzstr. 20\, 09111 Chemnitz
BEGIN:VALARM
ACTION:DISPLAY
DESCRIPTION:Erinnerung: Chemnitzer Museumsnacht I: Einblicke in die Schatzk
 ammer der Stadtbibliothek beginnt in 1 Stunde
TRIGGER;RELATED=END:-PT1H
END:VALARM
END:VEVENT
END:VCALENDAR
