BEGIN:VCALENDAR
PRODID:-//eluceo/ical//2.0/EN
VERSION:2.0
CALSCALE:GREGORIAN
BEGIN:VEVENT
UID:f397264d0e586a44d1a12694b07725f6
DTSTAMP:20260419T140357Z
SUMMARY:Bravo Hits-Black Party
DESCRIPTION:Die Hits\, die sofort zünden. Songs\, bei denen der Refrain si
 tzt\, noch bevor der Beat richtig läuft. Nostalgie\, Gänsehaut\, Mitsing
 en ohne Nachdenken – kein Vorgeplänkel\, kein Intro. Einfach rein in di
 e Nacht. 💿🔥
URL:https://www.meinplaner.com
DTSTART;TZID=Europe/Amsterdam:20260425T220000
DTEND;TZID=Europe/Amsterdam:20260426T030000
LOCATION:Humboldtstr. 14\, 08056 Zwickau
BEGIN:VALARM
ACTION:DISPLAY
DESCRIPTION:Erinnerung: Bravo Hits-Black Party beginnt in 1 Stunde
TRIGGER;RELATED=END:-PT1H
END:VALARM
END:VEVENT
END:VCALENDAR
