BEGIN:VCALENDAR
PRODID:-//eluceo/ical//2.0/EN
VERSION:2.0
CALSCALE:GREGORIAN
BEGIN:VEVENT
UID:352bc34f7b911a5e8b88c2f422b730fb
DTSTAMP:20260422T115710Z
SUMMARY:Ferienwohnung am Nussknackermuseum
DESCRIPTION:Direkt im Museumsgelände befinden sich vier modern eingerichte
 te Ferienwohnungen\, zum Wohlfühlen und Relaxen\, ideal für je 2 - 3 Per
 sonen. Zu den größten und kleinsten Nussknackern\, den Tieren und Märch
 enfiguren aus Holz sind es nur wenige Schritte.
URL:https://www.meinplaner.com
DTSTART;TZID=Europe/Amsterdam:20260422T100000
DTEND;TZID=Europe/Amsterdam:20260422T170000
LOCATION:Bahnhofstr. 20 -24\, 09544 Neuhausen/Erzgeb.
BEGIN:VALARM
ACTION:DISPLAY
DESCRIPTION:Erinnerung: Ferienwohnung am Nussknackermuseum beginnt in 1 Stu
 nde
TRIGGER;RELATED=END:-PT1H
END:VALARM
END:VEVENT
END:VCALENDAR
