BEGIN:VCALENDAR
PRODID:-//eluceo/ical//2.0/EN
VERSION:2.0
CALSCALE:GREGORIAN
BEGIN:VEVENT
UID:5e2b3bf417bce0bd39e8086e98e6a34c
DTSTAMP:20260424T072055Z
SUMMARY:Good God
DESCRIPTION:Das Lichtkunstwerk von Via Lewandowsky ziert den Turm der Schlo
 sskirche Chemnitz. Die markante Neoninstallation strahlt weit in die Stadt
  und thematisiert auf kunstvolle Weise die Spannung zwischen Glauben\, Zwe
 ifel und gesellschaftlichen Fragestellungen.
URL:https://www.meinplaner.com
DTSTART;TZID=Europe/Amsterdam:20260424T000000
DTEND;TZID=Europe/Amsterdam:20260424T235900
LOCATION:Schloßberg 11\, 09113 Chemnitz
BEGIN:VALARM
ACTION:DISPLAY
DESCRIPTION:Erinnerung: Good God beginnt in 1 Stunde
TRIGGER;RELATED=END:-PT1H
END:VALARM
END:VEVENT
END:VCALENDAR
