BEGIN:VCALENDAR
PRODID:-//eluceo/ical//2.0/EN
VERSION:2.0
CALSCALE:GREGORIAN
BEGIN:VEVENT
UID:43de04c243400e6ed84e4404b65b620b
DTSTAMP:20260424T072536Z
SUMMARY:Extractive Zones 
DESCRIPTION:Die Ausstellung präsentiert Ergebnisse einer grenzübergreifen
 den Recherche zu den wahren Kosten des Uranbergbaus\, mit Fotografien\, mo
 derner Kartografie\, Archivmaterial und künstlerischen Studien\, und läd
 t zur Vernissage am 7.11. ein.
URL:https://www.meinplaner.com
DTSTART;TZID=Europe/Amsterdam:20260424T160000
DTEND;TZID=Europe/Amsterdam:20260424T190000
LOCATION:Brühl 71\, 09111 Chemnitz
BEGIN:VALARM
ACTION:DISPLAY
DESCRIPTION:Erinnerung: Extractive Zones  beginnt in 1 Stunde
TRIGGER;RELATED=END:-PT1H
END:VALARM
END:VEVENT
END:VCALENDAR
