BEGIN:VCALENDAR
PRODID:-//eluceo/ical//2.0/EN
VERSION:2.0
CALSCALE:GREGORIAN
BEGIN:VEVENT
UID:ba1f328a8c6b1b049fc82206e6aa07a5
DTSTAMP:20260419T142430Z
SUMMARY:Info-Café zur Legacy von Chemnitz 2025
DESCRIPTION:Ein Info-Café gibt Einblicke in die Weiterentwicklung der Kult
 urhauptstadt Chemnitz. Themen sind nachhaltige Projekte\, neue Ideen und d
 ie langfristige Wirkung des Kulturhauptstadtjahres – mit Raum für Austa
 usch und Fragen.
URL:https://www.meinplaner.com
DTSTART;TZID=Europe/Amsterdam:20260421T180000
DTEND;TZID=Europe/Amsterdam:20260421T200000
LOCATION:Fabrikstraße  11\, 09111 Chemnitz
BEGIN:VALARM
ACTION:DISPLAY
DESCRIPTION:Erinnerung: Info-Café zur Legacy von Chemnitz 2025 beginnt in 
 1 Stunde
TRIGGER;RELATED=END:-PT1H
END:VALARM
END:VEVENT
END:VCALENDAR
