BEGIN:VCALENDAR
PRODID:-//eluceo/ical//2.0/EN
VERSION:2.0
CALSCALE:GREGORIAN
BEGIN:VEVENT
UID:7faa057fc4089dc220a75f151068c35a
DTSTAMP:20260422T025317Z
SUMMARY:Gut bürgerliche Küche wie sonntags bei Muttern
DESCRIPTION:Die angenehme Gaststätte\, freundlich gestaltet\, wird in 4. G
 eneration geführt. Hier gibt es keinen „Schnickschnack“\, sondern gut
  bürgerliche Küche. Einen deftigen Gulasch\, eine Roulade oder Schnitzel
  – so\, wie sonntags früher zu Hause. Erinnerungen leben auf!
URL:https://www.meinplaner.com
DTSTART;TZID=Europe/Amsterdam:20260422T110000
DTEND;TZID=Europe/Amsterdam:20260422T140000
LOCATION:Weinkellerstr. 38\, 09337 Hohenstein-Ernstthal
BEGIN:VALARM
ACTION:DISPLAY
DESCRIPTION:Erinnerung: Gut bürgerliche Küche wie sonntags bei Muttern be
 ginnt in 1 Stunde
TRIGGER;RELATED=END:-PT1H
END:VALARM
END:VEVENT
BEGIN:VEVENT
UID:312a0583ec043097475398f57ba5171e
DTSTAMP:20260422T025317Z
SUMMARY:Gut bürgerliche Küche wie sonntags bei Muttern
DESCRIPTION:Die angenehme Gaststätte\, freundlich gestaltet\, wird in 4. G
 eneration geführt. Hier gibt es keinen „Schnickschnack“\, sondern gut
  bürgerliche Küche. Einen deftigen Gulasch\, eine Roulade oder Schnitzel
  – so\, wie sonntags früher zu Hause. Erinnerungen leben auf!
URL:https://www.meinplaner.com
DTSTART;TZID=Europe/Amsterdam:20260422T170000
DTEND;TZID=Europe/Amsterdam:20260422T220000
LOCATION:Weinkellerstr. 38\, 09337 Hohenstein-Ernstthal
BEGIN:VALARM
ACTION:DISPLAY
DESCRIPTION:Erinnerung: Gut bürgerliche Küche wie sonntags bei Muttern be
 ginnt in 1 Stunde
TRIGGER;RELATED=END:-PT1H
END:VALARM
END:VEVENT
END:VCALENDAR
