BEGIN:VCALENDAR
PRODID:-//eluceo/ical//2.0/EN
VERSION:2.0
CALSCALE:GREGORIAN
BEGIN:VEVENT
UID:e1e6d058d8215751879e3c7ca4a764f4
DTSTAMP:20260420T085847Z
SUMMARY:Cartoon Spaß mit Stephan Buße
DESCRIPTION:Der Hobby-Cartoonist Stephan Buße alias Bube präsentiert sein
 e Werke in der Heimatstube. Mit feinem Strich und humorvollem Blick entste
 hen Karikaturen\, die Alltag und Gesellschaft pointiert in Szene setzen.
URL:https://www.meinplaner.com
DTSTART;TZID=Europe/Amsterdam:20260426T130000
DTEND;TZID=Europe/Amsterdam:20260426T160000
LOCATION:Neue Gasse 8\, 09387 Jahnsdorf/Erzgeb.
BEGIN:VALARM
ACTION:DISPLAY
DESCRIPTION:Erinnerung: Cartoon Spaß mit Stephan Buße beginnt in 1 Stunde
TRIGGER;RELATED=END:-PT1H
END:VALARM
END:VEVENT
END:VCALENDAR
