BEGIN:VCALENDAR
PRODID:-//eluceo/ical//2.0/EN
VERSION:2.0
CALSCALE:GREGORIAN
BEGIN:VEVENT
UID:68954f321f24c5d5fded92195dcfe239
DTSTAMP:20260422T233210Z
SUMMARY:Aftershow Party zum Bürgerfest im Klturkeller
DESCRIPTION:Nach dem Bürgerfest geht es weiter: 69 OVERDRIVE bringt den So
 und der 90er und 2000er auf die Bühne. Druckvolle Hymnen\, ehrlicher Rock
  und jede Menge Energie sorgen für eine mitreißende Partynacht.
URL:https://www.meinplaner.com
DTSTART;TZID=Europe/Amsterdam:20260502T210000
DTEND;TZID=Europe/Amsterdam:20260502T235900
LOCATION:Johannisplatz 4\, 09212 Limbach-Oberfrohna
BEGIN:VALARM
ACTION:DISPLAY
DESCRIPTION:Erinnerung: Aftershow Party zum Bürgerfest im Klturkeller begi
 nnt in 1 Stunde
TRIGGER;RELATED=END:-PT1H
END:VALARM
END:VEVENT
END:VCALENDAR
