BEGIN:VCALENDAR
PRODID:-//eluceo/ical//2.0/EN
VERSION:2.0
CALSCALE:GREGORIAN
BEGIN:VEVENT
UID:c57ed3b5f6030e2e7e11da45fbc7fa52
DTSTAMP:20260420T154236Z
SUMMARY:Achtung\, Spoiler! - Der Vogelhändler
DESCRIPTION:Die Besucher erhalten Einblicke in die bevorstehende Musiktheat
 erpremiere.
URL:https://www.meinplaner.com
DTSTART;TZID=Europe/Amsterdam:20260520T173000
DTEND;TZID=Europe/Amsterdam:20260520T193000
LOCATION:Theaterplatz  2\, 09111 Chemnitz
BEGIN:VALARM
ACTION:DISPLAY
DESCRIPTION:Erinnerung: Achtung\, Spoiler! - Der Vogelhändler beginnt in 1
  Stunde
TRIGGER;RELATED=END:-PT1H
END:VALARM
END:VEVENT
END:VCALENDAR
