BEGIN:VCALENDAR
PRODID:-//eluceo/ical//2.0/EN
VERSION:2.0
CALSCALE:GREGORIAN
BEGIN:VEVENT
UID:2e6cfc4db1b5a635ec2edae660ce28d9
DTSTAMP:20260421T143117Z
SUMMARY:Öffentliche Führung: Karl Schmidt-Rottluff Haus - ein neues Museu
 m für Chemnitz
DESCRIPTION:Das neu eröffnete Haus präsentiert das Schaffen des in Chemni
 tz geborenen Künstlers und Mitbegründers der „Brücke“. Zwei einziga
 rtige Sammlungen\, Grafiken und Leihgaben machen es zu einem neuen Hotspot
  des Expressionismus.
URL:https://www.meinplaner.com
DTSTART;TZID=Europe/Amsterdam:20260503T144500
DTEND;TZID=Europe/Amsterdam:20260503T164500
LOCATION:Limbacher Str.  382\, 09116 Chemnitz
BEGIN:VALARM
ACTION:DISPLAY
DESCRIPTION:Erinnerung: Öffentliche Führung: Karl Schmidt-Rottluff Haus -
  ein neues Museum für Chemnitz beginnt in 1 Stunde
TRIGGER;RELATED=END:-PT1H
END:VALARM
END:VEVENT
BEGIN:VEVENT
UID:6062399e037d1be0318787c4ad1d34ea
DTSTAMP:20260421T143117Z
SUMMARY:Öffentliche Führung: Karl Schmidt-Rottluff Haus - ein neues Museu
 m für Chemnitz
DESCRIPTION:Das neu eröffnete Haus präsentiert das Schaffen des in Chemni
 tz geborenen Künstlers und Mitbegründers der „Brücke“. Zwei einziga
 rtige Sammlungen\, Grafiken und Leihgaben machen es zu einem neuen Hotspot
  des Expressionismus.
URL:https://www.meinplaner.com
DTSTART;TZID=Europe/Amsterdam:20260503T153000
DTEND;TZID=Europe/Amsterdam:20260503T173000
LOCATION:Limbacher Str.  382\, 09116 Chemnitz
BEGIN:VALARM
ACTION:DISPLAY
DESCRIPTION:Erinnerung: Öffentliche Führung: Karl Schmidt-Rottluff Haus -
  ein neues Museum für Chemnitz beginnt in 1 Stunde
TRIGGER;RELATED=END:-PT1H
END:VALARM
END:VEVENT
BEGIN:VEVENT
UID:76000790fffc969a83d5c1d6b1df3f07
DTSTAMP:20260421T143117Z
SUMMARY:Öffentliche Führung: Karl Schmidt-Rottluff Haus - ein neues Museu
 m für Chemnitz
DESCRIPTION:Das neu eröffnete Haus präsentiert das Schaffen des in Chemni
 tz geborenen Künstlers und Mitbegründers der „Brücke“. Zwei einziga
 rtige Sammlungen\, Grafiken und Leihgaben machen es zu einem neuen Hotspot
  des Expressionismus.
URL:https://www.meinplaner.com
DTSTART;TZID=Europe/Amsterdam:20260503T140000
DTEND;TZID=Europe/Amsterdam:20260503T160000
LOCATION:Limbacher Str.  382\, 09116 Chemnitz
BEGIN:VALARM
ACTION:DISPLAY
DESCRIPTION:Erinnerung: Öffentliche Führung: Karl Schmidt-Rottluff Haus -
  ein neues Museum für Chemnitz beginnt in 1 Stunde
TRIGGER;RELATED=END:-PT1H
END:VALARM
END:VEVENT
END:VCALENDAR
