BEGIN:VCALENDAR
PRODID:-//eluceo/ical//2.0/EN
VERSION:2.0
CALSCALE:GREGORIAN
BEGIN:VEVENT
UID:8f1f98861102097333ad3a8b5daab646
DTSTAMP:20260422T161724Z
SUMMARY:Pfingsten: Grill an & genießen!
DESCRIPTION:An den Pfingsttagen ist geöffnet und für das leibliche Wohl b
 estens gesorgt. Frisches vom Grill\, kalte und warme Getränke sowie Kaffe
 e und Kuchen laden zu einer genussvollen Pause ein. Perfekt für eine ents
 pannte Auszeit.
URL:https://www.meinplaner.com
DTSTART;TZID=Europe/Amsterdam:20260525T110000
DTEND;TZID=Europe/Amsterdam:20260525T190000
LOCATION:Lengenfelder Str. 53a\, 08115 Lichtentanne
BEGIN:VALARM
ACTION:DISPLAY
DESCRIPTION:Erinnerung: Pfingsten: Grill an & genießen! beginnt in 1 Stund
 e
TRIGGER;RELATED=END:-PT1H
END:VALARM
END:VEVENT
END:VCALENDAR
