BEGIN:VCALENDAR
PRODID:-//eluceo/ical//2.0/EN
VERSION:2.0
CALSCALE:GREGORIAN
BEGIN:VEVENT
UID:bf117c51d2ff15d9b251e38fdbf94e6c
DTSTAMP:20260420T135818Z
SUMMARY:Kulinarische Reise nach Indien
DESCRIPTION:Auf der „Gastromeile“ Innere Klosterstraße lädt Inhaber J
 atinder Singh Goraya ein\, sein Land zu genießen. Die köstlichsten Gewü
 rze und Aromen der indischen Küche duften hier und die speziellen Zuberei
 tungen sind wie eine kulinarische eine Reise nach Fernost.
URL:https://www.meinplaner.com
DTSTART;TZID=Europe/Amsterdam:20260420T110000
DTEND;TZID=Europe/Amsterdam:20260420T140000
LOCATION:Innere Klosterstr. 19\, 09111 Chemnitz
BEGIN:VALARM
ACTION:DISPLAY
DESCRIPTION:Erinnerung: Kulinarische Reise nach Indien beginnt in 1 Stunde
TRIGGER;RELATED=END:-PT1H
END:VALARM
END:VEVENT
BEGIN:VEVENT
UID:c72e76142fca7ba63994e5d765ff565e
DTSTAMP:20260420T135818Z
SUMMARY:Kulinarische Reise nach Indien
DESCRIPTION:Auf der „Gastromeile“ Innere Klosterstraße lädt Inhaber J
 atinder Singh Goraya ein\, sein Land zu genießen. Die köstlichsten Gewü
 rze und Aromen der indischen Küche duften hier und die speziellen Zuberei
 tungen sind wie eine kulinarische eine Reise nach Fernost.
URL:https://www.meinplaner.com
DTSTART;TZID=Europe/Amsterdam:20260420T170000
DTEND;TZID=Europe/Amsterdam:20260420T220000
LOCATION:Innere Klosterstr. 19\, 09111 Chemnitz
BEGIN:VALARM
ACTION:DISPLAY
DESCRIPTION:Erinnerung: Kulinarische Reise nach Indien beginnt in 1 Stunde
TRIGGER;RELATED=END:-PT1H
END:VALARM
END:VEVENT
END:VCALENDAR
