BEGIN:VCALENDAR
PRODID:-//eluceo/ical//2.0/EN
VERSION:2.0
CALSCALE:GREGORIAN
BEGIN:VEVENT
UID:447ce9b6f79d9cfbc563de4d198caa55
DTSTAMP:20260419T153205Z
SUMMARY:Der Magier im Kreml
DESCRIPTION:Russland Anfang der 1990er: Nach dem Zerfall der UdSSR steigt d
 er brillante Vadim Baranov vom Avantgarde-Künstler zum Berater eines Ex-K
 GB-Mannes auf – Wladimir Putin. Als Strippenzieher formt er Worte\, Mach
 t und Mythen. Nur Ksenia bleibt frei für ihn.
URL:https://www.meinplaner.com
DTSTART;TZID=Europe/Amsterdam:20260419T170500
DTEND;TZID=Europe/Amsterdam:20260419T190500
LOCATION:Poetenweg 6-8\, 08056 Zwickau
BEGIN:VALARM
ACTION:DISPLAY
DESCRIPTION:Erinnerung: Der Magier im Kreml beginnt in 1 Stunde
TRIGGER;RELATED=END:-PT1H
END:VALARM
END:VEVENT
END:VCALENDAR
