BEGIN:VCALENDAR
PRODID:-//eluceo/ical//2.0/EN
VERSION:2.0
CALSCALE:GREGORIAN
BEGIN:VEVENT
UID:b8101cb09247765263b7e48be2b113e6
DTSTAMP:20260424T115221Z
SUMMARY:Tour de MUMM - Familienrunde
DESCRIPTION:Entspannte Tour durch malerische Landschaften: Die ca. 33 km la
 nge Strecke verbindet Bewegung\, Natur und Gemeinschaft. Unterwegs sorgt e
 in Verpflegungspunkt für eine kleine Stärkung – ideal für einen aktiv
 en Tag in lockerer Atmosphäre.
URL:https://www.meinplaner.com
DTSTART;TZID=Europe/Amsterdam:20260501T100000
DTEND;TZID=Europe/Amsterdam:20260501T130000
LOCATION:Chemnitzer Str.  133\, 09599 Freiberg
BEGIN:VALARM
ACTION:DISPLAY
DESCRIPTION:Erinnerung: Tour de MUMM - Familienrunde beginnt in 1 Stunde
TRIGGER;RELATED=END:-PT1H
END:VALARM
END:VEVENT
END:VCALENDAR
