BEGIN:VCALENDAR
PRODID:-//eluceo/ical//2.0/EN
VERSION:2.0
CALSCALE:GREGORIAN
BEGIN:VEVENT
UID:97a54b97ac6ab82afc17d28380210a35
DTSTAMP:20260421T201641Z
SUMMARY:„Klavierkonzert bei Kerzenschein – Epische Filmsoundtracks“
DESCRIPTION:Ein Abend im Kerzenschein mit den größten Melodien von Hans Z
 immer: Ein internationaler Pianist interpretiert die unvergessliche Filmmu
 sik des Weltstars in einer einzigartigen Konzertatmosphäre voller Emotion
  und Klangzauber.
URL:https://www.meinplaner.com
DTSTART;TZID=Europe/Amsterdam:20260427T190000
DTEND;TZID=Europe/Amsterdam:20260427T210000
LOCATION:Hohensteiner Str. 16\, 09366 Stollberg/Erzgeb.
BEGIN:VALARM
ACTION:DISPLAY
DESCRIPTION:Erinnerung: „Klavierkonzert bei Kerzenschein – Epische Film
 soundtracks“ beginnt in 1 Stunde
TRIGGER;RELATED=END:-PT1H
END:VALARM
END:VEVENT
END:VCALENDAR
