BEGIN:VCALENDAR
PRODID:-//eluceo/ical//2.0/EN
VERSION:2.0
CALSCALE:GREGORIAN
BEGIN:VEVENT
UID:1ad76f9c2056cfda620101a23512ba45
DTSTAMP:20260421T190910Z
SUMMARY:Lernen in Bewegung – Familien-Workshop
DESCRIPTION:Der Workshop richtet sich an Vorschulkinder und ein Elternteil.
  Mit gezielten Übungen werden Konzentration\, Gedächtnis und ein gelunge
 ner Schulstart gefördert. Praktische Impulse für den Alltag unterstütze
 n beim gemeinsamen Lernen.
URL:https://www.meinplaner.com
DTSTART;TZID=Europe/Amsterdam:20260508T160000
DTEND;TZID=Europe/Amsterdam:20260508T170000
LOCATION:Moritzstr. 20\, 09111 Chemnitz
BEGIN:VALARM
ACTION:DISPLAY
DESCRIPTION:Erinnerung: Lernen in Bewegung – Familien-Workshop beginnt in
  1 Stunde
TRIGGER;RELATED=END:-PT1H
END:VALARM
END:VEVENT
END:VCALENDAR
