BEGIN:VCALENDAR
PRODID:-//eluceo/ical//2.0/EN
VERSION:2.0
CALSCALE:GREGORIAN
BEGIN:VEVENT
UID:d0b40dba8c95c269673e80854113c17e
DTSTAMP:20260426T024411Z
SUMMARY:Teenie-Party im Kulturkeller
DESCRIPTION:Charts\, TikTok-Sounds und aktuelle Partyhits sorgen für beste
  Stimmung auf der Tanzfläche. Mit Lichtshow und energiegeladenen Beats en
 tsteht ein unvergesslicher Partyabend für Jugendliche zwischen 12 und 16 
 Jahren. 🎶🔥
URL:https://www.meinplaner.com
DTSTART;TZID=Europe/Amsterdam:20260530T180000
DTEND;TZID=Europe/Amsterdam:20260530T220000
LOCATION:Johannisplatz 4\, 09212 Limbach-Oberfrohna
BEGIN:VALARM
ACTION:DISPLAY
DESCRIPTION:Erinnerung: Teenie-Party im Kulturkeller beginnt in 1 Stunde
TRIGGER;RELATED=END:-PT1H
END:VALARM
END:VEVENT
END:VCALENDAR
