BEGIN:VCALENDAR
PRODID:-//eluceo/ical//2.0/EN
VERSION:2.0
CALSCALE:GREGORIAN
BEGIN:VEVENT
UID:4ecf6148bf26980267253244d48a8d21
DTSTAMP:20260419T203642Z
SUMMARY:Entdecke das Sonnensystem
DESCRIPTION:Eine Reise durch das gesamte Sonnensystem mit Erkundung der Pla
 neten Merkur bis Neptun. Ebenso lernt man Zwergplaneten\, Kleinplaneten un
 d Kometen kennen und welche Gefahren von diesen kleinen Himmelskörpern au
 sgehen können.
URL:https://www.meinplaner.com
DTSTART;TZID=Europe/Amsterdam:20260421T153000
DTEND;TZID=Europe/Amsterdam:20260421T173000
LOCATION:Milchstr. 1\, 09430 Drebach
BEGIN:VALARM
ACTION:DISPLAY
DESCRIPTION:Erinnerung: Entdecke das Sonnensystem beginnt in 1 Stunde
TRIGGER;RELATED=END:-PT1H
END:VALARM
END:VEVENT
END:VCALENDAR
