BEGIN:VCALENDAR
PRODID:-//eluceo/ical//2.0/EN
VERSION:2.0
CALSCALE:GREGORIAN
BEGIN:VEVENT
UID:bb59a0f8fe7312fa878ae6fbe79826ea
DTSTAMP:20260423T004801Z
SUMMARY:Mein Freund Barry
DESCRIPTION:Im Hospiz am Grossen Sankt Bernhard kämpft der kranke Georg ge
 gen Vorurteile und Einsamkeit\, findet Trost in der Freundschaft mit Resi 
 und einer zarten Bindung zu einem schwächlichen Welpen namens Barry\, wä
 hrend er um seine Zukunft ringt.
URL:https://www.meinplaner.com
DTSTART;TZID=Europe/Amsterdam:20260425T130000
DTEND;TZID=Europe/Amsterdam:20260425T150000
LOCATION:Buchholzer Str. 10\, 09456 Annaberg-Buchholz
BEGIN:VALARM
ACTION:DISPLAY
DESCRIPTION:Erinnerung: Mein Freund Barry beginnt in 1 Stunde
TRIGGER;RELATED=END:-PT1H
END:VALARM
END:VEVENT
END:VCALENDAR
